Package: miRNAmeConverter Version: 1.32.0 Maintainer: Stefan J. Haunsberger MaintainerEmail: stefan.haunsberger at gmail.com git_url: https://git.bioconductor.org/packages/miRNAmeConverter git_branch: RELEASE_3_19 git_last_commit: 4e4d2c5 git_last_commit_date: 2024-04-30 10:48:57 -0400 (Tue, 30 Apr 2024)