Package: miRLAB Version: 1.34.0 Command: rm -rf miRLAB.buildbin-libdir && mkdir miRLAB.buildbin-libdir && E:\biocbuild\bbs-3.19-bioc\R\bin\R.exe CMD INSTALL --build --library=miRLAB.buildbin-libdir miRLAB_1.34.0.tar.gz StartedAt: 2024-10-17 08:09:02 -0400 (Thu, 17 Oct 2024) EndedAt: 2024-10-17 08:09:49 -0400 (Thu, 17 Oct 2024) EllapsedTime: 47.2 seconds RetCode: 0 Status: OK PackageFile: miRLAB_1.34.0.zip PackageFileSize: 308.4 KiB