Package: miRLAB Version: 1.34.0 Command: rm -rf miRLAB.buildbin-libdir && mkdir miRLAB.buildbin-libdir && /Users/biocbuild/BBS/utils/build-universal.sh miRLAB_1.34.0.tar.gz /Library/Frameworks/R.framework/Resources/bin/R miRLAB.buildbin-libdir StartedAt: 2024-10-17 16:36:37 -0400 (Thu, 17 Oct 2024) EndedAt: 2024-10-17 16:38:08 -0400 (Thu, 17 Oct 2024) EllapsedTime: 91.2 seconds RetCode: 0 Status: OK PackageFile: miRLAB_1.34.0.tgz PackageFileSize: 303 KiB