Package: miRLAB Version: 1.34.0 Command: /Library/Frameworks/R.framework/Resources/bin/R CMD check --install=check:miRLAB.install-out.txt --library=/Library/Frameworks/R.framework/Resources/library --no-vignettes --timings miRLAB_1.34.0.tar.gz StartedAt: 2024-10-18 04:14:41 -0400 (Fri, 18 Oct 2024) EndedAt: 2024-10-18 04:19:32 -0400 (Fri, 18 Oct 2024) EllapsedTime: 290.5 seconds RetCode: 0 Status: WARNINGS CheckDir: miRLAB.Rcheck Warnings: 1