Package: miRBaseConverter Version: 1.28.6 Command: chmod a+r miRBaseConverter -R && E:\biocbuild\bbs-3.19-bioc\R\bin\R.exe CMD build --keep-empty-dirs --no-resave-data miRBaseConverter StartedAt: 2024-10-16 20:19:56 -0400 (Wed, 16 Oct 2024) EndedAt: 2024-10-16 20:20:26 -0400 (Wed, 16 Oct 2024) EllapsedTime: 29.3 seconds RetCode: 0 Status: OK PackageFile: miRBaseConverter_1.28.6.tar.gz PackageFileSize: 1.939 MiB