Package: miRBaseConverter Version: 1.28.6 Command: rm -rf miRBaseConverter.buildbin-libdir && mkdir miRBaseConverter.buildbin-libdir && E:\biocbuild\bbs-3.19-bioc\R\bin\R.exe CMD INSTALL --build --library=miRBaseConverter.buildbin-libdir miRBaseConverter_1.28.6.tar.gz StartedAt: 2024-10-17 08:08:52 -0400 (Thu, 17 Oct 2024) EndedAt: 2024-10-17 08:09:16 -0400 (Thu, 17 Oct 2024) EllapsedTime: 24.0 seconds RetCode: 0 Status: OK PackageFile: miRBaseConverter_1.28.6.zip PackageFileSize: 1.988 MiB