Package: miRBaseConverter Version: 1.28.0 Command: rm -rf miRBaseConverter.buildbin-libdir && mkdir miRBaseConverter.buildbin-libdir && F:\biocbuild\bbs-3.19-bioc\R\bin\R.exe CMD INSTALL --build --library=miRBaseConverter.buildbin-libdir miRBaseConverter_1.28.0.tar.gz StartedAt: 2024-06-27 08:30:58 -0400 (Thu, 27 Jun 2024) EndedAt: 2024-06-27 08:31:21 -0400 (Thu, 27 Jun 2024) EllapsedTime: 23.0 seconds RetCode: 0 Status: OK PackageFile: miRBaseConverter_1.28.0.zip PackageFileSize: 1.99 MiB