Package: miRBaseConverter Version: 1.28.6 Command: /home/biocbuild/bbs-3.19-bioc/R/bin/R CMD INSTALL miRBaseConverter StartedAt: 2024-10-16 15:49:13 -0400 (Wed, 16 Oct 2024) EndedAt: 2024-10-16 15:49:31 -0400 (Wed, 16 Oct 2024) EllapsedTime: 18.3 seconds RetCode: 0 Status: OK