Package: miRBaseConverter Version: 1.28.6 Command: /home/biocbuild/bbs-3.19-bioc/R/bin/R CMD check --install=check:miRBaseConverter.install-out.txt --library=/home/biocbuild/bbs-3.19-bioc/R/site-library --timings miRBaseConverter_1.28.6.tar.gz StartedAt: 2024-10-17 02:31:14 -0400 (Thu, 17 Oct 2024) EndedAt: 2024-10-17 02:31:57 -0400 (Thu, 17 Oct 2024) EllapsedTime: 43.1 seconds RetCode: 0 Status: OK CheckDir: miRBaseConverter.Rcheck Warnings: 0