Package: miRBaseConverter Version: 1.28.0 Command: /Library/Frameworks/R.framework/Resources/bin/R CMD build --keep-empty-dirs --no-resave-data miRBaseConverter StartedAt: 2024-06-09 17:16:53 -0400 (Sun, 09 Jun 2024) EndedAt: 2024-06-09 17:17:22 -0400 (Sun, 09 Jun 2024) EllapsedTime: 29.2 seconds RetCode: 0 Status: OK PackageFile: miRBaseConverter_1.28.0.tar.gz PackageFileSize: 1.941 MiB