Package: miRBaseConverter Version: 1.28.0 Command: rm -rf miRBaseConverter.buildbin-libdir && mkdir miRBaseConverter.buildbin-libdir && /Users/biocbuild/BBS/utils/build-universal.sh miRBaseConverter_1.28.0.tar.gz /Library/Frameworks/R.framework/Resources/bin/R miRBaseConverter.buildbin-libdir StartedAt: 2024-06-10 00:27:17 -0400 (Mon, 10 Jun 2024) EndedAt: 2024-06-10 00:27:35 -0400 (Mon, 10 Jun 2024) EllapsedTime: 18.0 seconds RetCode: 0 Status: OK PackageFile: miRBaseConverter_1.28.0.tgz PackageFileSize: 1.984 MiB