Package: miRBaseConverter Version: 1.28.0 Command: /home/biocbuild/R/R-beta-2024-04-15_r86425/bin/R CMD check --install=check:miRBaseConverter.install-out.txt --library=/home/biocbuild/R/R-beta-2024-04-15_r86425/site-library --no-vignettes --timings miRBaseConverter_1.28.0.tar.gz StartedAt: 2024-05-09 09:29:11 -0000 (Thu, 09 May 2024) EndedAt: 2024-05-09 09:29:59 -0000 (Thu, 09 May 2024) EllapsedTime: 48.1 seconds RetCode: 0 Status: OK CheckDir: miRBaseConverter.Rcheck Warnings: 0