Package: miRBaseConverter Version: 1.28.0 Command: /home/biocbuild/R/R-beta-2024-04-15_r86425/bin/R CMD build --keep-empty-dirs --no-resave-data miRBaseConverter StartedAt: 2024-05-09 01:41:52 -0000 (Thu, 09 May 2024) EndedAt: 2024-05-09 01:42:21 -0000 (Thu, 09 May 2024) EllapsedTime: 29.0 seconds RetCode: 0 Status: OK PackageFile: miRBaseConverter_1.28.0.tar.gz PackageFileSize: 1.964 MiB