Package: miRBaseConverter Version: 1.28.6 Command: /Library/Frameworks/R.framework/Resources/bin/R CMD INSTALL miRBaseConverter StartedAt: 2024-10-16 15:33:52 -0400 (Wed, 16 Oct 2024) EndedAt: 2024-10-16 15:34:14 -0400 (Wed, 16 Oct 2024) EllapsedTime: 21.9 seconds RetCode: 0 Status: OK