Package: miQC Version: 1.12.0 Command: /home/biocbuild/bbs-3.19-bioc/R/bin/R CMD check --install=check:miQC.install-out.txt --library=/home/biocbuild/bbs-3.19-bioc/R/site-library --timings miQC_1.12.0.tar.gz StartedAt: 2024-10-17 02:28:35 -0400 (Thu, 17 Oct 2024) EndedAt: 2024-10-17 02:32:58 -0400 (Thu, 17 Oct 2024) EllapsedTime: 263.4 seconds RetCode: 0 Status: OK CheckDir: miQC.Rcheck Warnings: 0