Package: miQC Version: 1.12.0 Command: /home/biocbuild/bbs-3.19-bioc/R/bin/R CMD build --keep-empty-dirs --no-resave-data miQC StartedAt: 2024-10-16 19:29:32 -0400 (Wed, 16 Oct 2024) EndedAt: 2024-10-16 19:30:55 -0400 (Wed, 16 Oct 2024) EllapsedTime: 83.1 seconds RetCode: 0 Status: OK PackageFile: miQC_1.12.0.tar.gz PackageFileSize: 2.758 MiB