Package: miQC Version: 1.12.0 Command: /Library/Frameworks/R.framework/Resources/bin/R CMD check --install=check:miQC.install-out.txt --library=/Library/Frameworks/R.framework/Resources/library --no-vignettes --timings miQC_1.12.0.tar.gz StartedAt: 2024-10-17 08:48:05 -0400 (Thu, 17 Oct 2024) EndedAt: 2024-10-17 08:56:22 -0400 (Thu, 17 Oct 2024) EllapsedTime: 497.0 seconds RetCode: 0 Status: OK CheckDir: miQC.Rcheck Warnings: 0