Package: mgsa Version: 1.52.0 Command: rm -rf mgsa.buildbin-libdir && mkdir mgsa.buildbin-libdir && E:\biocbuild\bbs-3.19-bioc\R\bin\R.exe CMD INSTALL --build --library=mgsa.buildbin-libdir mgsa_1.52.0.tar.gz StartedAt: 2024-10-17 08:07:56 -0400 (Thu, 17 Oct 2024) EndedAt: 2024-10-17 08:08:24 -0400 (Thu, 17 Oct 2024) EllapsedTime: 28.4 seconds RetCode: 0 Status: OK PackageFile: mgsa_1.52.0.zip PackageFileSize: 456.1 KiB