Package: mgsa Version: 1.52.0 Command: chmod a+r mgsa -R && F:\biocbuild\bbs-3.19-bioc\R\bin\R.exe CMD build --keep-empty-dirs --no-resave-data mgsa StartedAt: 2024-06-26 20:02:10 -0400 (Wed, 26 Jun 2024) EndedAt: 2024-06-26 20:02:54 -0400 (Wed, 26 Jun 2024) EllapsedTime: 44.1 seconds RetCode: 0 Status: OK PackageFile: mgsa_1.52.0.tar.gz PackageFileSize: 301.5 KiB