Package: mgsa Version: 1.52.0 Command: /home/biocbuild/bbs-3.19-bioc/R/bin/R CMD check --install=check:mgsa.install-out.txt --library=/home/biocbuild/bbs-3.19-bioc/R/site-library --timings mgsa_1.52.0.tar.gz StartedAt: 2024-10-17 02:22:04 -0400 (Thu, 17 Oct 2024) EndedAt: 2024-10-17 02:22:49 -0400 (Thu, 17 Oct 2024) EllapsedTime: 45.1 seconds RetCode: 0 Status: WARNINGS CheckDir: mgsa.Rcheck Warnings: 1