Package: mgsa Version: 1.52.0 Command: rm -rf mgsa.buildbin-libdir && mkdir mgsa.buildbin-libdir && /Users/biocbuild/BBS/utils/build-universal.sh mgsa_1.52.0.tar.gz /Library/Frameworks/R.framework/Resources/bin/R mgsa.buildbin-libdir StartedAt: 2024-10-17 16:35:10 -0400 (Thu, 17 Oct 2024) EndedAt: 2024-10-17 16:35:28 -0400 (Thu, 17 Oct 2024) EllapsedTime: 17.9 seconds RetCode: 0 Status: OK PackageFile: mgsa_1.52.0.tgz PackageFileSize: 545.6 KiB