Package: mfa Version: 1.26.0 Command: chmod a+r mfa -R && E:\biocbuild\bbs-3.19-bioc\R\bin\R.exe CMD build --keep-empty-dirs --no-resave-data mfa StartedAt: 2024-10-16 20:16:18 -0400 (Wed, 16 Oct 2024) EndedAt: 2024-10-16 20:16:58 -0400 (Wed, 16 Oct 2024) EllapsedTime: 39.9 seconds RetCode: 0 Status: OK PackageFile: mfa_1.26.0.tar.gz PackageFileSize: 338 KiB