Package: mfa Version: 1.26.0 Command: /Library/Frameworks/R.framework/Resources/bin/R CMD build --keep-empty-dirs --no-resave-data mfa StartedAt: 2024-10-16 20:50:02 -0400 (Wed, 16 Oct 2024) EndedAt: 2024-10-16 20:51:48 -0400 (Wed, 16 Oct 2024) EllapsedTime: 105.8 seconds RetCode: 0 Status: OK PackageFile: mfa_1.26.0.tar.gz PackageFileSize: 548.2 KiB