Package: mfa Version: 1.26.0 Command: /Library/Frameworks/R.framework/Resources/bin/R CMD INSTALL mfa StartedAt: 2024-10-16 17:52:06 -0400 (Wed, 16 Oct 2024) EndedAt: 2024-10-16 17:52:24 -0400 (Wed, 16 Oct 2024) EllapsedTime: 18.3 seconds RetCode: 0 Status: OK