Package: methylumi Version: 2.50.0 Command: chmod a+r methylumi -R && E:\biocbuild\bbs-3.19-bioc\R\bin\R.exe CMD build --keep-empty-dirs --no-resave-data methylumi StartedAt: 2024-10-16 20:15:32 -0400 (Wed, 16 Oct 2024) EndedAt: 2024-10-16 20:19:56 -0400 (Wed, 16 Oct 2024) EllapsedTime: 264.2 seconds RetCode: 0 Status: OK PackageFile: methylumi_2.50.0.tar.gz PackageFileSize: 7.33 MiB