Package: methylumi Version: 2.50.0 Command: rm -rf methylumi.buildbin-libdir && mkdir methylumi.buildbin-libdir && E:\biocbuild\bbs-3.19-bioc\R\bin\R.exe CMD INSTALL --build --library=methylumi.buildbin-libdir methylumi_2.50.0.tar.gz StartedAt: 2024-10-17 08:07:35 -0400 (Thu, 17 Oct 2024) EndedAt: 2024-10-17 08:09:35 -0400 (Thu, 17 Oct 2024) EllapsedTime: 119.8 seconds RetCode: 0 Status: OK PackageFile: methylumi_2.50.0.zip PackageFileSize: 8.404 MiB