Package: methylumi Version: 2.50.0 Command: /Library/Frameworks/R.framework/Resources/bin/R CMD build --keep-empty-dirs --no-resave-data methylumi StartedAt: 2024-10-16 20:48:12 -0400 (Wed, 16 Oct 2024) EndedAt: 2024-10-16 21:00:57 -0400 (Wed, 16 Oct 2024) EllapsedTime: 764.7 seconds RetCode: 0 Status: OK PackageFile: methylumi_2.50.0.tar.gz PackageFileSize: 7.342 MiB