| Back to Multiple platform build/check report for BioC 3.19: simplified long | 
 | 
This page was generated on 2024-10-18 20:37 -0400 (Fri, 18 Oct 2024).
| Hostname | OS | Arch (*) | R version | Installed pkgs | 
|---|---|---|---|---|
| nebbiolo1 | Linux (Ubuntu 22.04.3 LTS) | x86_64 | 4.4.1 (2024-06-14) -- "Race for Your Life" | 4763 | 
| palomino7 | Windows Server 2022 Datacenter | x64 | 4.4.1 (2024-06-14 ucrt) -- "Race for Your Life" | 4500 | 
| merida1 | macOS 12.7.5 Monterey | x86_64 | 4.4.1 (2024-06-14) -- "Race for Your Life" | 4530 | 
| kjohnson1 | macOS 13.6.6 Ventura | arm64 | 4.4.1 (2024-06-14) -- "Race for Your Life" | 4480 | 
| Click on any hostname to see more info about the system (e.g. compilers) (*) as reported by 'uname -p', except on Windows and Mac OS X | ||||
| To the developers/maintainers of the methylumi package: - Allow up to 24 hours (and sometimes 48 hours) for your latest push to git@git.bioconductor.org:packages/methylumi.git to reflect on this report. See Troubleshooting Build Report for more information. - Use the following Renviron settings to reproduce errors and warnings. - If 'R CMD check' started to fail recently on the Linux builder(s) over a missing dependency, add the missing dependency to 'Suggests:' in your DESCRIPTION file. See Renviron.bioc for more information. | 
| Package 1248/2300 | Hostname | OS / Arch | INSTALL | BUILD | CHECK | BUILD BIN | ||||||||
| methylumi 2.50.0  (landing page) Sean Davis 
 | nebbiolo1 | Linux (Ubuntu 22.04.3 LTS) / x86_64 | OK | OK | OK |  | ||||||||
| palomino7 | Windows Server 2022 Datacenter / x64 | OK | OK | OK | OK |  | ||||||||
| merida1 | macOS 12.7.5 Monterey / x86_64 | OK | OK | OK | OK |  | ||||||||
| kjohnson1 | macOS 13.6.6 Ventura / arm64 | OK | OK | OK | OK |  | ||||||||
| QUICK STATS | OS / Arch | INSTALL | BUILD | CHECK | BUILD BIN | |||||||||||||||||
| nebbiolo1 | Linux (Ubuntu 22.04.3 LTS) / x86_64 | 
 | 
 | 
 | ||||||||||||||||||
| palomino7 | Windows Server 2022 Datacenter / x64 | 
 | 
 | 
 | 
 | |||||||||||||||||
| merida1 | macOS 12.7.5 Monterey / x86_64 | 
 | 
 | 
 | 
 | |||||||||||||||||
| kjohnson1 | macOS 13.6.6 Ventura / arm64 | 
 | 
 | 
 | 
 | |||||||||||||||||
| Package 1/7 | Hostname | OS / Arch | INSTALL | BUILD | CHECK | BUILD BIN | ||||||||||||||||
| bigmelon 1.30.0  (landing page) Leonard C. Schalkwyk 
 | nebbiolo1 | Linux (Ubuntu 22.04.3 LTS) / x86_64 | OK | OK | WARNINGS |  | ||||||||||||||||
| palomino7 | Windows Server 2022 Datacenter / x64 | OK | OK | WARNINGS | OK |  | ||||||||||||||||
| merida1 | macOS 12.7.5 Monterey / x86_64 | OK | OK | WARNINGS | OK |  | ||||||||||||||||
| kjohnson1 | macOS 13.6.6 Ventura / arm64 | OK | OK | WARNINGS | OK |  | ||||||||||||||||
| Package 2/7 | Hostname | OS / Arch | INSTALL | BUILD | CHECK | BUILD BIN | ||||||||||||||||
| ffpe 1.48.0  (landing page) Levi Waldron 
 | nebbiolo1 | Linux (Ubuntu 22.04.3 LTS) / x86_64 | OK | OK | OK |  | ||||||||||||||||
| palomino7 | Windows Server 2022 Datacenter / x64 | OK | OK | OK | OK |  | ||||||||||||||||
| merida1 | macOS 12.7.5 Monterey / x86_64 | OK | OK | OK | OK |  | ||||||||||||||||
| kjohnson1 | macOS 13.6.6 Ventura / arm64 | OK | OK | OK | OK |  | ||||||||||||||||
| Package 3/7 | Hostname | OS / Arch | INSTALL | BUILD | CHECK | BUILD BIN | ||||||||||||||||
| lumi 2.56.0  (landing page) Lei Huang 
 | nebbiolo1 | Linux (Ubuntu 22.04.3 LTS) / x86_64 | OK | OK | WARNINGS |  | ||||||||||||||||
| palomino7 | Windows Server 2022 Datacenter / x64 | OK | OK | WARNINGS | OK |  | ||||||||||||||||
| merida1 | macOS 12.7.5 Monterey / x86_64 | OK | OK | WARNINGS | OK |  | ||||||||||||||||
| kjohnson1 | macOS 13.6.6 Ventura / arm64 | OK | OK | WARNINGS | OK |  | ||||||||||||||||
| Package 4/7 | Hostname | OS / Arch | INSTALL | BUILD | CHECK | BUILD BIN | ||||||||||||||||
| missMethyl 1.38.0  (landing page) Belinda Phipson 
 | nebbiolo1 | Linux (Ubuntu 22.04.3 LTS) / x86_64 | OK | OK | OK |  | ||||||||||||||||
| palomino7 | Windows Server 2022 Datacenter / x64 | OK | OK | OK | OK |  | ||||||||||||||||
| merida1 | macOS 12.7.5 Monterey / x86_64 | OK | OK | TIMEOUT | OK | |||||||||||||||||
| kjohnson1 | macOS 13.6.6 Ventura / arm64 | OK | OK | OK | OK |  | ||||||||||||||||
| Package 5/7 | Hostname | OS / Arch | INSTALL | BUILD | CHECK | BUILD BIN | ||||||||||||||||
| RnBeads 2.22.0  (landing page) Fabian Mueller 
 | nebbiolo1 | Linux (Ubuntu 22.04.3 LTS) / x86_64 | OK | OK | OK |  | ||||||||||||||||
| palomino7 | Windows Server 2022 Datacenter / x64 | OK | OK | OK | OK |  | ||||||||||||||||
| merida1 | macOS 12.7.5 Monterey / x86_64 | OK | OK | OK | OK |  | ||||||||||||||||
| kjohnson1 | macOS 13.6.6 Ventura / arm64 | OK | OK | OK | OK |  | ||||||||||||||||
| Package 6/7 | Hostname | OS / Arch | INSTALL | BUILD | CHECK | BUILD BIN | ||||||||||||||||
| skewr 1.36.0  (landing page) Ryan Putney 
 | nebbiolo1 | Linux (Ubuntu 22.04.3 LTS) / x86_64 | OK | OK | OK |  | ||||||||||||||||
| palomino7 | Windows Server 2022 Datacenter / x64 | OK | OK | OK | OK |  | ||||||||||||||||
| merida1 | macOS 12.7.5 Monterey / x86_64 | OK | OK | OK | OK |  | ||||||||||||||||
| kjohnson1 | macOS 13.6.6 Ventura / arm64 | OK | OK | OK | NA | |||||||||||||||||
| Package 7/7 | Hostname | OS / Arch | INSTALL | BUILD | CHECK | BUILD BIN | ||||||||||||||||
| wateRmelon 2.10.0  (landing page) Leo C Schalkwyk 
 | nebbiolo1 | Linux (Ubuntu 22.04.3 LTS) / x86_64 | OK | OK | WARNINGS |  | ||||||||||||||||
| palomino7 | Windows Server 2022 Datacenter / x64 | OK | OK | WARNINGS | OK |  | ||||||||||||||||
| merida1 | macOS 12.7.5 Monterey / x86_64 | OK | OK | WARNINGS | OK |  | ||||||||||||||||
| kjohnson1 | macOS 13.6.6 Ventura / arm64 | OK | OK | WARNINGS | NA | |||||||||||||||||