Package: methylscaper Version: 1.12.3 Command: chmod a+r methylscaper -R && E:\biocbuild\bbs-3.19-bioc\R\bin\R.exe CMD build --keep-empty-dirs --no-resave-data methylscaper StartedAt: 2024-10-16 20:15:24 -0400 (Wed, 16 Oct 2024) EndedAt: 2024-10-16 20:17:05 -0400 (Wed, 16 Oct 2024) EllapsedTime: 100.3 seconds RetCode: 0 Status: OK PackageFile: methylscaper_1.12.3.tar.gz PackageFileSize: 3.803 MiB