Package: methylscaper Version: 1.12.0 Command: chmod a+r methylscaper -R && F:\biocbuild\bbs-3.19-bioc\R\bin\R.exe CMD build --keep-empty-dirs --no-resave-data methylscaper StartedAt: 2024-06-26 20:00:39 -0400 (Wed, 26 Jun 2024) EndedAt: 2024-06-26 20:02:27 -0400 (Wed, 26 Jun 2024) EllapsedTime: 108.6 seconds RetCode: 0 Status: OK PackageFile: methylscaper_1.12.0.tar.gz PackageFileSize: 3.808 MiB