Package: methylscaper Version: 1.12.3 Command: /home/biocbuild/bbs-3.19-bioc/R/bin/R CMD build --keep-empty-dirs --no-resave-data methylscaper StartedAt: 2024-10-16 19:25:20 -0400 (Wed, 16 Oct 2024) EndedAt: 2024-10-16 19:27:26 -0400 (Wed, 16 Oct 2024) EllapsedTime: 126.2 seconds RetCode: 0 Status: OK PackageFile: methylscaper_1.12.3.tar.gz PackageFileSize: 3.968 MiB