Package: methylscaper Version: 1.12.3 Command: /Library/Frameworks/R.framework/Resources/bin/R CMD INSTALL methylscaper StartedAt: 2024-10-16 16:34:15 -0400 (Wed, 16 Oct 2024) EndedAt: 2024-10-16 16:35:21 -0400 (Wed, 16 Oct 2024) EllapsedTime: 65.6 seconds RetCode: 0 Status: OK