Package: methylscaper Version: 1.12.3 Command: /Library/Frameworks/R.framework/Resources/bin/R CMD build --keep-empty-dirs --no-resave-data methylscaper StartedAt: 2024-10-16 20:47:36 -0400 (Wed, 16 Oct 2024) EndedAt: 2024-10-16 20:51:18 -0400 (Wed, 16 Oct 2024) EllapsedTime: 221.5 seconds RetCode: 0 Status: OK PackageFile: methylscaper_1.12.3.tar.gz PackageFileSize: 4.031 MiB