Package: methylscaper Version: 1.12.0 Command: /home/biocbuild/R/R-beta-2024-04-15_r86425/bin/R CMD INSTALL methylscaper StartedAt: 2024-05-08 20:57:38 -0000 (Wed, 08 May 2024) EndedAt: 2024-05-08 20:58:16 -0000 (Wed, 08 May 2024) EllapsedTime: 37.9 seconds RetCode: 0 Status: OK