Package: methylscaper Version: 1.12.0 Command: rm -rf methylscaper.buildbin-libdir && mkdir methylscaper.buildbin-libdir && /Users/biocbuild/BBS/utils/build-universal.sh methylscaper_1.12.0.tar.gz /Library/Frameworks/R.framework/Resources/bin/R methylscaper.buildbin-libdir StartedAt: 2024-06-11 12:00:58 -0400 (Tue, 11 Jun 2024) EndedAt: 2024-06-11 12:01:54 -0400 (Tue, 11 Jun 2024) EllapsedTime: 55.5 seconds RetCode: 0 Status: OK PackageFile: methylscaper_1.12.0.tgz PackageFileSize: 3.235 MiB