Package: methylscaper Version: 1.12.3 Command: /Library/Frameworks/R.framework/Resources/bin/R CMD build --keep-empty-dirs --no-resave-data methylscaper StartedAt: 2024-10-17 04:17:25 -0400 (Thu, 17 Oct 2024) EndedAt: 2024-10-17 04:19:06 -0400 (Thu, 17 Oct 2024) EllapsedTime: 100.7 seconds RetCode: 0 Status: OK PackageFile: methylscaper_1.12.3.tar.gz PackageFileSize: 4.031 MiB