Package: methylclock Version: 1.10.0 Command: chmod a+r methylclock -R && F:\biocbuild\bbs-3.19-bioc\R\bin\R.exe CMD build --keep-empty-dirs --no-resave-data methylclock StartedAt: 2024-06-26 19:58:44 -0400 (Wed, 26 Jun 2024) EndedAt: 2024-06-26 20:10:02 -0400 (Wed, 26 Jun 2024) EllapsedTime: 677.5 seconds RetCode: 0 Status: OK PackageFile: methylclock_1.10.0.tar.gz PackageFileSize: 628.1 KiB