Package: methylclock Version: 1.10.0 Command: rm -rf methylclock.buildbin-libdir && mkdir methylclock.buildbin-libdir && /Users/biocbuild/BBS/utils/build-universal.sh methylclock_1.10.0.tar.gz /Library/Frameworks/R.framework/Resources/bin/R methylclock.buildbin-libdir StartedAt: 2024-06-10 00:26:25 -0400 (Mon, 10 Jun 2024) EndedAt: 2024-06-10 00:28:13 -0400 (Mon, 10 Jun 2024) EllapsedTime: 108.1 seconds RetCode: 0 Status: OK PackageFile: methylclock_1.10.0.tgz PackageFileSize: 1.022 MiB