Package: methylclock Version: 1.10.0 Command: rm -rf methylclock.buildbin-libdir && mkdir methylclock.buildbin-libdir && /Users/biocbuild/BBS/utils/build-universal.sh methylclock_1.10.0.tar.gz /Library/Frameworks/R.framework/Resources/bin/R methylclock.buildbin-libdir StartedAt: 2024-06-11 11:59:35 -0400 (Tue, 11 Jun 2024) EndedAt: 2024-06-11 12:02:16 -0400 (Tue, 11 Jun 2024) EllapsedTime: 161.2 seconds RetCode: 0 Status: OK PackageFile: methylclock_1.10.0.tgz PackageFileSize: 1.019 MiB