Package: methylclock Version: 1.10.0 Command: /Library/Frameworks/R.framework/Resources/bin/R CMD INSTALL methylclock StartedAt: 2024-10-16 18:49:23 -0400 (Wed, 16 Oct 2024) EndedAt: 2024-10-16 18:50:47 -0400 (Wed, 16 Oct 2024) EllapsedTime: 83.9 seconds RetCode: 0 Status: OK