Package: methylclock Version: 1.10.0 Command: /Library/Frameworks/R.framework/Resources/bin/R CMD check --install=check:methylclock.install-out.txt --library=/Library/Frameworks/R.framework/Resources/library --no-vignettes --timings methylclock_1.10.0.tar.gz StartedAt: 2024-10-18 03:28:37 -0400 (Fri, 18 Oct 2024) EndedAt: 2024-10-18 03:45:23 -0400 (Fri, 18 Oct 2024) EllapsedTime: 1005.7 seconds RetCode: 0 Status: OK CheckDir: methylclock.Rcheck Warnings: 0