Package: methylclock Version: 1.10.0 Maintainer: Dolors Pelegri-Siso MaintainerEmail: dolors.pelegri at isglobal.org git_url: https://git.bioconductor.org/packages/methylclock git_branch: RELEASE_3_19 git_last_commit: c88ec69 git_last_commit_date: 2024-04-30 11:35:38 -0400 (Tue, 30 Apr 2024)