Package: methylSig Version: 1.16.0 Command: /home/biocbuild/bbs-3.19-bioc/R/bin/R CMD build --keep-empty-dirs --no-resave-data methylSig StartedAt: 2024-10-16 19:25:58 -0400 (Wed, 16 Oct 2024) EndedAt: 2024-10-16 19:27:25 -0400 (Wed, 16 Oct 2024) EllapsedTime: 87.1 seconds RetCode: 0 Status: OK PackageFile: methylSig_1.16.0.tar.gz PackageFileSize: 492.6 KiB