Package: methylSig Version: 1.16.0 Command: /home/biocbuild/R/R-beta-2024-04-15_r86425/bin/R CMD INSTALL methylSig StartedAt: 2024-05-08 20:29:33 -0000 (Wed, 08 May 2024) EndedAt: 2024-05-08 20:30:42 -0000 (Wed, 08 May 2024) EllapsedTime: 69.5 seconds RetCode: 0 Status: OK