Package: methylMnM Version: 1.42.0 Command: chmod a+r methylMnM -R && F:\biocbuild\bbs-3.19-bioc\R\bin\R.exe CMD build --keep-empty-dirs --no-resave-data methylMnM StartedAt: 2024-06-26 20:00:08 -0400 (Wed, 26 Jun 2024) EndedAt: 2024-06-26 20:01:34 -0400 (Wed, 26 Jun 2024) EllapsedTime: 85.5 seconds RetCode: 0 Status: OK PackageFile: methylMnM_1.42.0.tar.gz PackageFileSize: 8.41 MiB