Package: methylMnM Version: 1.42.0 Command: /home/biocbuild/bbs-3.19-bioc/R/bin/R CMD INSTALL methylMnM StartedAt: 2024-10-16 15:53:29 -0400 (Wed, 16 Oct 2024) EndedAt: 2024-10-16 15:53:38 -0400 (Wed, 16 Oct 2024) EllapsedTime: 9.1 seconds RetCode: 0 Status: OK