Package: methylMnM Version: 1.42.0 Command: /Library/Frameworks/R.framework/Resources/bin/R CMD check --install=check:methylMnM.install-out.txt --library=/Library/Frameworks/R.framework/Resources/library --no-vignettes --timings methylMnM_1.42.0.tar.gz StartedAt: 2024-10-17 08:19:01 -0400 (Thu, 17 Oct 2024) EndedAt: 2024-10-17 08:20:52 -0400 (Thu, 17 Oct 2024) EllapsedTime: 111.1 seconds RetCode: 0 Status: OK CheckDir: methylMnM.Rcheck Warnings: 0