Package: methylMnM Version: 1.42.0 Command: rm -rf methylMnM.buildbin-libdir && mkdir methylMnM.buildbin-libdir && /Users/biocbuild/BBS/utils/build-universal.sh methylMnM_1.42.0.tar.gz /Library/Frameworks/R.framework/Resources/bin/R methylMnM.buildbin-libdir StartedAt: 2024-10-17 16:33:57 -0400 (Thu, 17 Oct 2024) EndedAt: 2024-10-17 16:34:28 -0400 (Thu, 17 Oct 2024) EllapsedTime: 31.5 seconds RetCode: 0 Status: OK PackageFile: methylMnM_1.42.0.tgz PackageFileSize: 8.86 MiB