Package: methylMnM Version: 1.42.0 Command: /home/biocbuild/R/R-beta-2024-04-15_r86425/bin/R CMD build --keep-empty-dirs --no-resave-data methylMnM StartedAt: 2024-05-09 01:34:04 -0000 (Thu, 09 May 2024) EndedAt: 2024-05-09 01:35:54 -0000 (Thu, 09 May 2024) EllapsedTime: 110.1 seconds RetCode: 0 Status: OK PackageFile: methylMnM_1.42.0.tar.gz PackageFileSize: 8.501 MiB