Package: methylMnM Version: 1.42.0 Command: /Library/Frameworks/R.framework/Resources/bin/R CMD build --keep-empty-dirs --no-resave-data methylMnM StartedAt: 2024-06-10 00:22:59 -0400 (Mon, 10 Jun 2024) EndedAt: 2024-06-10 00:25:30 -0400 (Mon, 10 Jun 2024) EllapsedTime: 151.3 seconds RetCode: 0 Status: OK PackageFile: methylMnM_1.42.0.tar.gz PackageFileSize: 8.509 MiB